BEGIN:VCALENDAR
VERSION:2.0
PRODID:-//COLSIGEN//SCALE Demo//EN
CALSCALE:GREGORIAN
METHOD:PUBLISH
BEGIN:VEVENT
UID:colsigen-scale-demo-20260515@colsigen.com
DTSTAMP:20260420T095201Z
SUMMARY:SCALE Demo – Post-Procedure Recovery Protocol
DTSTART;TZID=America/Chicago:20260515T120000
DTEND;TZID=America/Chicago:20260515T132500
LOCATION:Summit ABCD room
DESCRIPTION:Demo program summary:\nJoin Dr. Gold for a live Demonstration of a Post-Procedure Recovery Protocol with Colsigen® Mask and Stratacel® Gel.\n\nThe session will showcase Colsigen Refresh® and Stratacel®, a synergistic two-step post-procedure solution promoting faster wound healing and epidermal barrier repair after cosmetic procedures.\n\nThis innovative combination supports fast recovery, patient comfort and clinic workflow integration while minimizing side effects and complications.\n\nMore information: https://www.colsigen.com/SCALE-demo
URL:https://www.colsigen.com/SCALE-demo
BEGIN:VALARM
TRIGGER:-PT20M
ACTION:DISPLAY
DESCRIPTION:Reminder
END:VALARM
END:VEVENT
END:VCALENDAR
